BEGIN:VCALENDAR
VERSION:2.0
PRODID:spatie/icalendar-generator
DESCRIPTION:Events from Emmanuel Presbyterian Church
X-WR-CALDESC:Events from Emmanuel Presbyterian Church
REFRESH-INTERVAL;VALUE=DURATION:PT1440M
X-PUBLISHED-TTL:PT1440M
BEGIN:VTIMEZONE
TZID:America/Chicago
BEGIN:STANDARD
DTSTART:20251102T020000Z
TZOFFSETFROM:-0500
TZOFFSETTO:-0600
END:STANDARD
BEGIN:DAYLIGHT
DTSTART:20260308T020000Z
TZOFFSETFROM:-0600
TZOFFSETTO:-0500
END:DAYLIGHT
END:VTIMEZONE
BEGIN:VTIMEZONE
TZID:UTC
BEGIN:STANDARD
DTSTART:20250724T133513Z
TZOFFSETFROM:+0000
TZOFFSETTO:+0000
END:STANDARD
END:VTIMEZONE
BEGIN:VEVENT
UID:198-23
DTSTAMP:20260420T133513Z
SUMMARY:Theocademy Class
LOCATION:
ORGANIZER;CN=marionpresbyterian_1f2upx:MAILTO:emmanuelpc@goldenwest.net
RRULE:FREQ=WEEKLY;UNTIL=20260726T000000Z
DTSTART;TZID=America/Chicago;VALUE=DATE:20260419
DTEND;TZID=America/Chicago;VALUE=DATE:20260420
X-ALT-DESC;FMTTYPE=TEXT/HTML:
CATEGORIES:General
URL;VALUE=URI:https://www.marionpresbyterian.com/mc-events/theocademy-class
 /?mc_id=198
METHOD:PUBLISH
END:VEVENT
END:VCALENDAR